BEGIN:VCALENDAR
VERSION:2.0
PRODID:-// - ECPv6.15.19//NONSGML v1.0//EN
CALSCALE:GREGORIAN
METHOD:PUBLISH
X-ORIGINAL-URL:https://flnow.org
X-WR-CALDESC:Events for 
REFRESH-INTERVAL;VALUE=DURATION:PT1H
X-Robots-Tag:noindex
X-PUBLISHED-TTL:PT1H
BEGIN:VTIMEZONE
TZID:America/New_York
BEGIN:DAYLIGHT
TZOFFSETFROM:-0500
TZOFFSETTO:-0400
TZNAME:EDT
DTSTART:20250309T070000
END:DAYLIGHT
BEGIN:STANDARD
TZOFFSETFROM:-0400
TZOFFSETTO:-0500
TZNAME:EST
DTSTART:20251102T060000
END:STANDARD
BEGIN:DAYLIGHT
TZOFFSETFROM:-0500
TZOFFSETTO:-0400
TZNAME:EDT
DTSTART:20260308T070000
END:DAYLIGHT
BEGIN:STANDARD
TZOFFSETFROM:-0400
TZOFFSETTO:-0500
TZNAME:EST
DTSTART:20261101T060000
END:STANDARD
BEGIN:DAYLIGHT
TZOFFSETFROM:-0500
TZOFFSETTO:-0400
TZNAME:EDT
DTSTART:20270314T070000
END:DAYLIGHT
BEGIN:STANDARD
TZOFFSETFROM:-0400
TZOFFSETTO:-0500
TZNAME:EST
DTSTART:20271107T060000
END:STANDARD
END:VTIMEZONE
BEGIN:VEVENT
DTSTART;TZID=America/New_York:20260428T190000
DTEND;TZID=America/New_York:20260428T200000
DTSTAMP:20260419T175635
CREATED:20260416T193849Z
LAST-MODIFIED:20260417T151836Z
UID:6102-1777402800-1777406400@flnow.org
SUMMARY:Miami Social Hour by Florida NOW (Virtual)
DESCRIPTION:Tuesday\, April 28th\, 7:00 pm \nSign Up
URL:https://flnow.org/event/miami-social-hour-by-florida-now-virtual/
LOCATION:NV
CATEGORIES:Florida NOW Events
END:VEVENT
BEGIN:VEVENT
DTSTART;TZID=America/New_York:20260501T080000
DTEND;TZID=America/New_York:20260501T170000
DTSTAMP:20260419T175635
CREATED:20260408T140933Z
LAST-MODIFIED:20260408T141413Z
UID:6069-1777622400-1777654800@flnow.org
SUMMARY:May Day General Strike!
DESCRIPTION:https://maydaystrong.org/
URL:https://flnow.org/event/may-day-general-strike/
LOCATION:NV
CATEGORIES:Florida NOW Events
END:VEVENT
BEGIN:VEVENT
DTSTART;TZID=America/New_York:20260506T171500
DTEND;TZID=America/New_York:20260506T190000
DTSTAMP:20260419T175635
CREATED:20260227T142410Z
LAST-MODIFIED:20260227T142410Z
UID:5972-1778087700-1778094000@flnow.org
SUMMARY:Florida NOW State Council -  Wed.\, May 6\,  2026 @ 5:15 pm on ZOOM
DESCRIPTION:>>> Sign Up Here <<<
URL:https://flnow.org/event/florida-now-state-council-wed-may-6-2026-515-pm-on-zoom/
LOCATION:NV
CATEGORIES:Florida NOW Events
END:VEVENT
BEGIN:VEVENT
DTSTART;TZID=America/New_York:20260516T140000
DTEND;TZID=America/New_York:20260516T160000
DTSTAMP:20260419T175635
CREATED:20260417T195307Z
LAST-MODIFIED:20260419T151648Z
UID:6104-1778940000-1778947200@flnow.org
SUMMARY:Florida NOW Film Screening: Act Of War - The Overthrow Of The Hawaiian Nation
DESCRIPTION:Trailer \nJoin Florida NOW for a screening of Act of War: The Overthrow of the Hawaiian Nation\, a documentary that examines the 1893 overthrow of the Hawaiian Kingdom and the role of the U.S. in the overthrow of Hawaiian sovereignty. \nCentering Native Hawaiian voices and perspectives\, the film explores the impacts of colonization\, militarization\, and land dispossession\, while uplifting the work of those continuing to advocate for sovereignty and justice. \nStay after the screening for community reflection and conversation. \n>>> Sign up <<<
URL:https://flnow.org/event/florida-now-film-screening-act-of-war-the-overthrow-of-the-hawaiian-nation/
LOCATION:NV
CATEGORIES:Florida NOW Events
END:VEVENT
BEGIN:VEVENT
DTSTART;TZID=America/New_York:20260518T183000
DTEND;TZID=America/New_York:20260518T193000
DTSTAMP:20260419T175635
CREATED:20260419T152244Z
LAST-MODIFIED:20260419T152309Z
UID:6108-1779129000-1779132600@flnow.org
SUMMARY:Florida NOW for Anti-Racism Learning Book Club - “Asian American Histories of the United States: (ReVisioning History #7)” by Catherine Ceniza Choy
DESCRIPTION:Join Florida NOW for Anti-Racism Learning Book Club as we read and discuss “Asian American Histories of the United States: (ReVisioning History #7)” by Catherine Ceniza Choy on Zoom\, Monday\, May 18th\, 6:30 pm ET. \nFull list here: https://flnow.org/book-club/ \nIn this book\, historian Catherine Ceniza Choy provides an accessible overview of Asian American history\, tracing how Asian communities have shaped and been shaped by U.S. history. The book examines key moments including immigration\, labor exploitation\, exclusion and immigration laws\, war\, and the ongoing struggle for civil rights and belonging. \nAs an organization committed to intersectional feminism\, Florida NOW believes that confronting white supremacy within our movements is essential. Without intersectionality\, feminism fails to address the full scope of injustice. \nThis virtual gathering will offer space for thoughtful dialogue\, reflection\, and collective learning as we continue building a feminist movement rooted in racial justice and collective liberation. OPEN TO ALL. \n>>> Sign up <<<
URL:https://flnow.org/event/florida-now-for-anti-racism-learning-book-club/
LOCATION:NV
CATEGORIES:Florida NOW Events
END:VEVENT
BEGIN:VEVENT
DTSTART;TZID=America/New_York:20260620T140000
DTEND;TZID=America/New_York:20260620T160000
DTSTAMP:20260419T175635
CREATED:20260419T152944Z
LAST-MODIFIED:20260419T152944Z
UID:6111-1781964000-1781971200@flnow.org
SUMMARY:Florida NOW Film Screening: NO MAS BEBES
DESCRIPTION:Trailer \nJoin Florida NOW for a screening of No Más Bebés\, a powerful documentary that uncovers the forced sterilization of Mexican and Mexican American women at Los Angeles County-USC Medical Center during the late 1960s and 1970s. \nCentering the voices of survivors\, the film follows the landmark case Madrigal v. Quilligan and exposes how racism\, language barriers\, and medical abuse were used to deny patients informed consent. \nStay after the screening for community reflection and conversation. \n>>> Sign up <<<
URL:https://flnow.org/event/florida-now-film-screening-no-mas-bebes/
LOCATION:NV
CATEGORIES:Florida NOW Events
END:VEVENT
BEGIN:VEVENT
DTSTART;TZID=America/New_York:20260814T170000
DTEND;TZID=America/New_York:20260816T130000
DTSTAMP:20260419T175635
CREATED:20251217T165207Z
LAST-MODIFIED:20260313T151035Z
UID:5719-1786726800-1786885200@flnow.org
SUMMARY:2026 FL NOW State Conference: Feminists Fight Fascism
DESCRIPTION:The Annual 2026 FL NOW State Conference: Feminists Fight Fascism will be held in St. Petersburg on August 14-16th\, 2026. Join fellow feminists in building community and rising to the challenges in Florida. \nReserve a discounted room at the hotel here! \nPeople over 30 years old register here! \n​30 years old and under\, register free here​! \nApply for a program book ad here! \nLearn more here! \nSchedule:\nFriday evening: Reception for Feminist Candidates\, 6pm\nSaturday: Speakers and workshops\, 9am to 6pm\nSaturday evening: Dining\, Entertainment and Socializing\nSunday: FL NOW business\nTicket includes appetizers Friday evening and lunch on Saturday.
URL:https://flnow.org/event/2026-conference/
LOCATION:NV
CATEGORIES:Florida NOW Events
END:VEVENT
END:VCALENDAR