BEGIN:VCALENDAR
VERSION:2.0
PRODID:-// - ECPv6.15.19//NONSGML v1.0//EN
CALSCALE:GREGORIAN
METHOD:PUBLISH
X-ORIGINAL-URL:https://flnow.org
X-WR-CALDESC:Events for 
REFRESH-INTERVAL;VALUE=DURATION:PT1H
X-Robots-Tag:noindex
X-PUBLISHED-TTL:PT1H
BEGIN:VTIMEZONE
TZID:America/New_York
BEGIN:DAYLIGHT
TZOFFSETFROM:-0500
TZOFFSETTO:-0400
TZNAME:EDT
DTSTART:20200308T070000
END:DAYLIGHT
BEGIN:STANDARD
TZOFFSETFROM:-0400
TZOFFSETTO:-0500
TZNAME:EST
DTSTART:20201101T060000
END:STANDARD
BEGIN:DAYLIGHT
TZOFFSETFROM:-0500
TZOFFSETTO:-0400
TZNAME:EDT
DTSTART:20210314T070000
END:DAYLIGHT
BEGIN:STANDARD
TZOFFSETFROM:-0400
TZOFFSETTO:-0500
TZNAME:EST
DTSTART:20211107T060000
END:STANDARD
BEGIN:DAYLIGHT
TZOFFSETFROM:-0500
TZOFFSETTO:-0400
TZNAME:EDT
DTSTART:20220313T070000
END:DAYLIGHT
BEGIN:STANDARD
TZOFFSETFROM:-0400
TZOFFSETTO:-0500
TZNAME:EST
DTSTART:20221106T060000
END:STANDARD
END:VTIMEZONE
BEGIN:VEVENT
DTSTART;TZID=America/New_York:20210202T140000
DTEND;TZID=America/New_York:20210202T150000
DTSTAMP:20260422T105835
CREATED:20210131T025940Z
LAST-MODIFIED:20210131T025940Z
UID:2823-1612274400-1612278000@flnow.org
SUMMARY:PBC NOW February Zoom Board Meeting
DESCRIPTION:PBC NOW Board Meeting By Zoom–contact us for link. Please join us! All members welcome.
URL:https://flnow.org/event/pbc-now-february-zoom-board-meeting/
CATEGORIES:Local Chapter Events
END:VEVENT
BEGIN:VEVENT
DTSTART;TZID=America/New_York:20210202T093000
DTEND;TZID=America/New_York:20210202T100000
DTSTAMP:20260422T105835
CREATED:20210131T020819Z
LAST-MODIFIED:20210131T020819Z
UID:2821-1612258200-1612260000@flnow.org
SUMMARY:Outstanding Feminist of the Year Award of 2020 + 2021: PBC Commissioners Melissa McKinlay and Maria Sachs
DESCRIPTION:The awards will be presented at the County Commissioners. It can be viewed on the county site at https://discover.pbcgov.org/Pages/CH20Live.aspx PBC NOW board member Michelle Damone will present the awards for Outstanding Feminist of the Year\, 2020 and 2021.
URL:https://flnow.org/event/outstanding-feminist-of-the-year-award-of-2020-2021-pbc-commissioners-melissa-mckinlay-and-maria-sachs/
LOCATION:zoom
CATEGORIES:Local Chapter Events
END:VEVENT
BEGIN:VEVENT
DTSTART;TZID=America/New_York:20210131T080000
DTEND;TZID=America/New_York:20210131T170000
DTSTAMP:20260422T105835
CREATED:20210131T200453Z
LAST-MODIFIED:20210131T200453Z
UID:2829-1612080000-1612112400@flnow.org
SUMMARY:PBC Municipal Candidate Forum: Riviera Beach\, Belle Glade\, Pahokee\, South Bay
DESCRIPTION:
URL:https://flnow.org/event/pbc-municipal-candidate-forum-riviera-beach-belle-glade-pahokee-south-bay/
LOCATION:zoom
CATEGORIES:Local Chapter Events
END:VEVENT
END:VCALENDAR