BEGIN:VCALENDAR
VERSION:2.0
PRODID:-// - ECPv6.15.19//NONSGML v1.0//EN
CALSCALE:GREGORIAN
METHOD:PUBLISH
X-ORIGINAL-URL:https://flnow.org
X-WR-CALDESC:Events for 
REFRESH-INTERVAL;VALUE=DURATION:PT1H
X-Robots-Tag:noindex
X-PUBLISHED-TTL:PT1H
BEGIN:VTIMEZONE
TZID:America/New_York
BEGIN:DAYLIGHT
TZOFFSETFROM:-0500
TZOFFSETTO:-0400
TZNAME:EDT
DTSTART:20250309T070000
END:DAYLIGHT
BEGIN:STANDARD
TZOFFSETFROM:-0400
TZOFFSETTO:-0500
TZNAME:EST
DTSTART:20251102T060000
END:STANDARD
BEGIN:DAYLIGHT
TZOFFSETFROM:-0500
TZOFFSETTO:-0400
TZNAME:EDT
DTSTART:20260308T070000
END:DAYLIGHT
BEGIN:STANDARD
TZOFFSETFROM:-0400
TZOFFSETTO:-0500
TZNAME:EST
DTSTART:20261101T060000
END:STANDARD
BEGIN:DAYLIGHT
TZOFFSETFROM:-0500
TZOFFSETTO:-0400
TZNAME:EDT
DTSTART:20270314T070000
END:DAYLIGHT
BEGIN:STANDARD
TZOFFSETFROM:-0400
TZOFFSETTO:-0500
TZNAME:EST
DTSTART:20271107T060000
END:STANDARD
END:VTIMEZONE
BEGIN:VEVENT
DTSTART;TZID=America/New_York:20260316T080000
DTEND;TZID=America/New_York:20260316T170000
DTSTAMP:20260422T190431
CREATED:20260317T174745Z
LAST-MODIFIED:20260317T174745Z
UID:6002-1773648000-1773680400@flnow.org
SUMMARY:Miami NOW Social Hour (Virtual)
DESCRIPTION:Miami NOW Social Hour (Virtual)\nTuesday – March 31st\, 6:15 pm EST\n \n  \nMiami area Feminists\, join us to connect\, build community\, form affinity or action groups\, shape Florida NOW’s priorities\, and get more involved with Florida NOW. \n  \nPlease bring a friend or ally to join in\, if you can. And\, of course\, be ready to share your thoughts and our companionship in this safe space Social Hour. Register here with this form so a zoom link can be sent to you afterwards!
URL:https://flnow.org/event/miami-now-social-hour-virtual/
CATEGORIES:Local Chapter Events
END:VEVENT
END:VCALENDAR