BEGIN:VCALENDAR
VERSION:2.0
PRODID:-// - ECPv6.15.19//NONSGML v1.0//EN
CALSCALE:GREGORIAN
METHOD:PUBLISH
X-ORIGINAL-URL:https://flnow.org
X-WR-CALDESC:Events for 
REFRESH-INTERVAL;VALUE=DURATION:PT1H
X-Robots-Tag:noindex
X-PUBLISHED-TTL:PT1H
BEGIN:VTIMEZONE
TZID:America/New_York
BEGIN:DAYLIGHT
TZOFFSETFROM:-0500
TZOFFSETTO:-0400
TZNAME:EDT
DTSTART:20250309T070000
END:DAYLIGHT
BEGIN:STANDARD
TZOFFSETFROM:-0400
TZOFFSETTO:-0500
TZNAME:EST
DTSTART:20251102T060000
END:STANDARD
BEGIN:DAYLIGHT
TZOFFSETFROM:-0500
TZOFFSETTO:-0400
TZNAME:EDT
DTSTART:20260308T070000
END:DAYLIGHT
BEGIN:STANDARD
TZOFFSETFROM:-0400
TZOFFSETTO:-0500
TZNAME:EST
DTSTART:20261101T060000
END:STANDARD
BEGIN:DAYLIGHT
TZOFFSETFROM:-0500
TZOFFSETTO:-0400
TZNAME:EDT
DTSTART:20270314T070000
END:DAYLIGHT
BEGIN:STANDARD
TZOFFSETFROM:-0400
TZOFFSETTO:-0500
TZNAME:EST
DTSTART:20271107T060000
END:STANDARD
END:VTIMEZONE
BEGIN:VEVENT
DTSTART;TZID=America/New_York:20260215T140000
DTEND;TZID=America/New_York:20260215T160000
DTSTAMP:20260422T160705
CREATED:20260119T193016Z
LAST-MODIFIED:20260119T193016Z
UID:5825-1771164000-1771171200@flnow.org
SUMMARY:Florida Now Screening: Free Angela & All Political Prisoners
DESCRIPTION:Join us for a powerful community screening and conversation about the life\, activism\, and political persecution of Angela Davis. This documentary traces how state repression\, racism\, and surveillance shaped one of the most important liberation movements of the 20th century\, and how those same systems continue to impact organizers\, Black communities\, and political prisoners today. \nAs Florida heads into another difficult legislative session\, we’re grounding ourselves in history\, solidarity\, and collective learning. This virtual gathering is open to everyone who wants to better understand how these struggles connect to the work we’re doing now in our local communities. \nhttps://mobilize.us/s/062iQc
URL:https://flnow.org/event/florida-now-screening-free-angela-all-political-prisoners/
CATEGORIES:Florida NOW Events
END:VEVENT
END:VCALENDAR