BEGIN:VCALENDAR
VERSION:2.0
PRODID:-// - ECPv6.15.19//NONSGML v1.0//EN
CALSCALE:GREGORIAN
METHOD:PUBLISH
X-ORIGINAL-URL:https://flnow.org
X-WR-CALDESC:Events for 
REFRESH-INTERVAL;VALUE=DURATION:PT1H
X-Robots-Tag:noindex
X-PUBLISHED-TTL:PT1H
BEGIN:VTIMEZONE
TZID:America/New_York
BEGIN:DAYLIGHT
TZOFFSETFROM:-0500
TZOFFSETTO:-0400
TZNAME:EDT
DTSTART:20250309T070000
END:DAYLIGHT
BEGIN:STANDARD
TZOFFSETFROM:-0400
TZOFFSETTO:-0500
TZNAME:EST
DTSTART:20251102T060000
END:STANDARD
BEGIN:DAYLIGHT
TZOFFSETFROM:-0500
TZOFFSETTO:-0400
TZNAME:EDT
DTSTART:20260308T070000
END:DAYLIGHT
BEGIN:STANDARD
TZOFFSETFROM:-0400
TZOFFSETTO:-0500
TZNAME:EST
DTSTART:20261101T060000
END:STANDARD
BEGIN:DAYLIGHT
TZOFFSETFROM:-0500
TZOFFSETTO:-0400
TZNAME:EDT
DTSTART:20270314T070000
END:DAYLIGHT
BEGIN:STANDARD
TZOFFSETFROM:-0400
TZOFFSETTO:-0500
TZNAME:EST
DTSTART:20271107T060000
END:STANDARD
END:VTIMEZONE
BEGIN:VEVENT
DTSTART;TZID=America/New_York:20260208T080000
DTEND;TZID=America/New_York:20260208T170000
DTSTAMP:20260422T160359
CREATED:20260418T070010Z
LAST-MODIFIED:20260209T020044Z
UID:5911-1770537600-1770570000@flnow.org
SUMMARY:Florida NOW Film Screening: The Librarians
DESCRIPTION:https://mobilize.us/s/UQEupf
URL:https://flnow.org/event/florida-now-film-screening-the-librarians/
CATEGORIES:Florida NOW Events
END:VEVENT
BEGIN:VEVENT
DTSTART;TZID=America/New_York:20260208T133000
DTEND;TZID=America/New_York:20260208T143000
DTSTAMP:20260422T160359
CREATED:20251228T165021Z
LAST-MODIFIED:20260208T172159Z
UID:5749-1770557400-1770561000@flnow.org
SUMMARY:2-8 FL NOW State Council Meeting 1:30 pm
DESCRIPTION:https://docs.google.com/forms/d/e/1FAIpQLSe6h4L4fB-Tlw9-vehNOpy6tmTWCR2PqcmR1n1UVF6nSv6XTA/viewform
URL:https://flnow.org/event/2-8-fl-now-state-council-meeting-130-pm/
CATEGORIES:Florida NOW Events
END:VEVENT
END:VCALENDAR