BEGIN:VCALENDAR
VERSION:2.0
PRODID:-// - ECPv6.15.19//NONSGML v1.0//EN
CALSCALE:GREGORIAN
METHOD:PUBLISH
X-ORIGINAL-URL:https://flnow.org
X-WR-CALDESC:Events for 
REFRESH-INTERVAL;VALUE=DURATION:PT1H
X-Robots-Tag:noindex
X-PUBLISHED-TTL:PT1H
BEGIN:VTIMEZONE
TZID:America/New_York
BEGIN:DAYLIGHT
TZOFFSETFROM:-0500
TZOFFSETTO:-0400
TZNAME:EDT
DTSTART:20240310T070000
END:DAYLIGHT
BEGIN:STANDARD
TZOFFSETFROM:-0400
TZOFFSETTO:-0500
TZNAME:EST
DTSTART:20241103T060000
END:STANDARD
BEGIN:DAYLIGHT
TZOFFSETFROM:-0500
TZOFFSETTO:-0400
TZNAME:EDT
DTSTART:20250309T070000
END:DAYLIGHT
BEGIN:STANDARD
TZOFFSETFROM:-0400
TZOFFSETTO:-0500
TZNAME:EST
DTSTART:20251102T060000
END:STANDARD
BEGIN:DAYLIGHT
TZOFFSETFROM:-0500
TZOFFSETTO:-0400
TZNAME:EDT
DTSTART:20260308T070000
END:DAYLIGHT
BEGIN:STANDARD
TZOFFSETFROM:-0400
TZOFFSETTO:-0500
TZNAME:EST
DTSTART:20261101T060000
END:STANDARD
END:VTIMEZONE
BEGIN:VEVENT
DTSTART;TZID=America/New_York:20251229T150000
DTEND;TZID=America/New_York:20251229T163000
DTSTAMP:20260422T105835
CREATED:20251121T181314Z
LAST-MODIFIED:20260114T022816Z
UID:5668-1767020400-1767025800@flnow.org
SUMMARY:Florida NOW Lobby Days - Interest Meeting
DESCRIPTION:Join Florida NOW for an interest meeting ahead of our 2026 Lobby Days. This session is for anyone who wants to learn how to show up in Tallahassee with a strong\, grassroots\, intersectional feminist presence. \nWe’ll go over what Lobby Days look like\, how members can participate\, accessible ways to plug in\, and what we’re organizing around this year. \nWhether you’re a longtime member or brand new to advocacy spaces\, this meeting is a supportive place to connect\, ask questions\, and learn how we can build collective power across Florida. \nRSVP to receive the Zoom link. We look forward to organizing with you! \nLobby Days 2026 Sign-up: mobilize.us/s/gtFuOl \nPrep Meeting (Virtual) December 29th\, 3 pm Sign-up: mobilize.us/s/E7y3MF
URL:https://flnow.org/event/florida-now-lobby-days-interest-meeting/
CATEGORIES:Florida NOW Events
END:VEVENT
END:VCALENDAR