BEGIN:VCALENDAR
VERSION:2.0
PRODID:-// - ECPv6.15.19//NONSGML v1.0//EN
CALSCALE:GREGORIAN
METHOD:PUBLISH
X-ORIGINAL-URL:https://flnow.org
X-WR-CALDESC:Events for 
REFRESH-INTERVAL;VALUE=DURATION:PT1H
X-Robots-Tag:noindex
X-PUBLISHED-TTL:PT1H
BEGIN:VTIMEZONE
TZID:America/New_York
BEGIN:DAYLIGHT
TZOFFSETFROM:-0500
TZOFFSETTO:-0400
TZNAME:EDT
DTSTART:20240310T070000
END:DAYLIGHT
BEGIN:STANDARD
TZOFFSETFROM:-0400
TZOFFSETTO:-0500
TZNAME:EST
DTSTART:20241103T060000
END:STANDARD
BEGIN:DAYLIGHT
TZOFFSETFROM:-0500
TZOFFSETTO:-0400
TZNAME:EDT
DTSTART:20250309T070000
END:DAYLIGHT
BEGIN:STANDARD
TZOFFSETFROM:-0400
TZOFFSETTO:-0500
TZNAME:EST
DTSTART:20251102T060000
END:STANDARD
BEGIN:DAYLIGHT
TZOFFSETFROM:-0500
TZOFFSETTO:-0400
TZNAME:EDT
DTSTART:20260308T070000
END:DAYLIGHT
BEGIN:STANDARD
TZOFFSETFROM:-0400
TZOFFSETTO:-0500
TZNAME:EST
DTSTART:20261101T060000
END:STANDARD
END:VTIMEZONE
BEGIN:VEVENT
DTSTART;TZID=America/New_York:20251221T140000
DTEND;TZID=America/New_York:20251221T160000
DTSTAMP:20260422T135339
CREATED:20250908T190453Z
LAST-MODIFIED:20251104T151329Z
UID:5320-1766325600-1766332800@flnow.org
SUMMARY:FL NOW Screening "PARIS IS BURNING" Sunday\, December 21st\, 2pm
DESCRIPTION:Paris Is Burning is a 1990 American documentary film directed by Jennie Livingston. Filmed in the mid-to-late 1980s\, it chronicles the ball culture of New York City and the African-American\, Latino\, gay and transgender communities involved in it. \nCritics consider the film to be an invaluable documentary of the end of the “Golden Age” of New York City drag balls\, and a thoughtful exploration of race\, class\, gender and sexuality in America. \nIn 2016\, the film was selected for preservation in the United States National Film Registry by the Library of Congress as being “culturally\, historically or aesthetically significant”. \nWe’ll follow the screening with a community discussion on how the legacies of ball culture continue to shape struggles for liberation\, visibility\, joy\, and self-determination today. \nSunday\, December 21st\, 2pm on Zoom \nSign Up
URL:https://flnow.org/event/fl-now-movie-event-sunday-december-21-2pm-paris-is-burning/
CATEGORIES:Florida NOW Events
END:VEVENT
END:VCALENDAR