BEGIN:VCALENDAR
VERSION:2.0
PRODID:-// - ECPv6.15.19//NONSGML v1.0//EN
CALSCALE:GREGORIAN
METHOD:PUBLISH
X-ORIGINAL-URL:https://flnow.org
X-WR-CALDESC:Events for 
REFRESH-INTERVAL;VALUE=DURATION:PT1H
X-Robots-Tag:noindex
X-PUBLISHED-TTL:PT1H
BEGIN:VTIMEZONE
TZID:America/New_York
BEGIN:DAYLIGHT
TZOFFSETFROM:-0500
TZOFFSETTO:-0400
TZNAME:EDT
DTSTART:20240310T070000
END:DAYLIGHT
BEGIN:STANDARD
TZOFFSETFROM:-0400
TZOFFSETTO:-0500
TZNAME:EST
DTSTART:20241103T060000
END:STANDARD
BEGIN:DAYLIGHT
TZOFFSETFROM:-0500
TZOFFSETTO:-0400
TZNAME:EDT
DTSTART:20250309T070000
END:DAYLIGHT
BEGIN:STANDARD
TZOFFSETFROM:-0400
TZOFFSETTO:-0500
TZNAME:EST
DTSTART:20251102T060000
END:STANDARD
BEGIN:DAYLIGHT
TZOFFSETFROM:-0500
TZOFFSETTO:-0400
TZNAME:EDT
DTSTART:20260308T070000
END:DAYLIGHT
BEGIN:STANDARD
TZOFFSETFROM:-0400
TZOFFSETTO:-0500
TZNAME:EST
DTSTART:20261101T060000
END:STANDARD
END:VTIMEZONE
BEGIN:VEVENT
DTSTART;TZID=America/New_York:20251110T190000
DTEND;TZID=America/New_York:20251110T200000
DTSTAMP:20260422T153221
CREATED:20251021T181620Z
LAST-MODIFIED:20251024T173024Z
UID:5562-1762801200-1762804800@flnow.org
SUMMARY:Boundaries Webinar by Oregon NOW
DESCRIPTION:Boundary setting can be a feminist act of self-respect\, a practical tool to identify your limits\, and a way to reclaim your time\, energy and well-being. Kelly Caldwell and Chrystal Brim (VP NOW Oregon) will share again a much appreciated workshop they presented at the 2025 National NOW conference.\n\n\n\n  \n  \n  \n  \nNovember 10th 7pm \nZoom Link
URL:https://flnow.org/event/boundaries-webinar-by-oregon-now/
CATEGORIES:Florida NOW Events
END:VEVENT
END:VCALENDAR