BEGIN:VCALENDAR
VERSION:2.0
PRODID:-// - ECPv6.15.19//NONSGML v1.0//EN
CALSCALE:GREGORIAN
METHOD:PUBLISH
X-ORIGINAL-URL:https://flnow.org
X-WR-CALDESC:Events for 
REFRESH-INTERVAL;VALUE=DURATION:PT1H
X-Robots-Tag:noindex
X-PUBLISHED-TTL:PT1H
BEGIN:VTIMEZONE
TZID:America/New_York
BEGIN:DAYLIGHT
TZOFFSETFROM:-0500
TZOFFSETTO:-0400
TZNAME:EDT
DTSTART:20240310T070000
END:DAYLIGHT
BEGIN:STANDARD
TZOFFSETFROM:-0400
TZOFFSETTO:-0500
TZNAME:EST
DTSTART:20241103T060000
END:STANDARD
BEGIN:DAYLIGHT
TZOFFSETFROM:-0500
TZOFFSETTO:-0400
TZNAME:EDT
DTSTART:20250309T070000
END:DAYLIGHT
BEGIN:STANDARD
TZOFFSETFROM:-0400
TZOFFSETTO:-0500
TZNAME:EST
DTSTART:20251102T060000
END:STANDARD
BEGIN:DAYLIGHT
TZOFFSETFROM:-0500
TZOFFSETTO:-0400
TZNAME:EDT
DTSTART:20260308T070000
END:DAYLIGHT
BEGIN:STANDARD
TZOFFSETFROM:-0400
TZOFFSETTO:-0500
TZNAME:EST
DTSTART:20261101T060000
END:STANDARD
END:VTIMEZONE
BEGIN:VEVENT
DTSTART;TZID=America/New_York:20251029T190000
DTEND;TZID=America/New_York:20251029T200000
DTSTAMP:20260423T032549
CREATED:20250924T184758Z
LAST-MODIFIED:20250924T201254Z
UID:5381-1761764400-1761768000@flnow.org
SUMMARY:Florida NOW Panel Discussion: Sex Worker Rights & Reproductive Rights
DESCRIPTION:Join Alex Andrews\, Founder and Program Director of SWOP Behind Bars\, Melodie Garcia\, Executive Director\, New Moon Fund\, Public Nuisance Feminist\, Elle Stanger\, Sex Worker\, Parent\, Educator\, and Writer\, J Leigh Brantley\, Program Director\, New Moon Fund\, and Blair Hopkins\, Executive Director\, SWOP Behind Bars\, for a candid conversation on how sex workers are reshaping the landscape of reproductive freedom. \nFrom access to abortion and contraception to parenting rights\, policing of bodies\, and the fight for decriminalization\, this discussion will unpack the intersections of labor\, justice\, and autonomy too often left out of the mainstream feminist conversation. Come ready to listen\, learn\, and challenge the myths about who gets to claim reproductive justice\, and who is left behind. \nSign Up Here
URL:https://flnow.org/event/florida-now-panel-discussion-sex-worker-rights-reproductive-rights/
CATEGORIES:Florida NOW Events
END:VEVENT
END:VCALENDAR