BEGIN:VCALENDAR
VERSION:2.0
PRODID:-// - ECPv6.15.19//NONSGML v1.0//EN
CALSCALE:GREGORIAN
METHOD:PUBLISH
X-ORIGINAL-URL:https://flnow.org
X-WR-CALDESC:Events for 
REFRESH-INTERVAL;VALUE=DURATION:PT1H
X-Robots-Tag:noindex
X-PUBLISHED-TTL:PT1H
BEGIN:VTIMEZONE
TZID:America/New_York
BEGIN:DAYLIGHT
TZOFFSETFROM:-0500
TZOFFSETTO:-0400
TZNAME:EDT
DTSTART:20240310T070000
END:DAYLIGHT
BEGIN:STANDARD
TZOFFSETFROM:-0400
TZOFFSETTO:-0500
TZNAME:EST
DTSTART:20241103T060000
END:STANDARD
BEGIN:DAYLIGHT
TZOFFSETFROM:-0500
TZOFFSETTO:-0400
TZNAME:EDT
DTSTART:20250309T070000
END:DAYLIGHT
BEGIN:STANDARD
TZOFFSETFROM:-0400
TZOFFSETTO:-0500
TZNAME:EST
DTSTART:20251102T060000
END:STANDARD
BEGIN:DAYLIGHT
TZOFFSETFROM:-0500
TZOFFSETTO:-0400
TZNAME:EDT
DTSTART:20260308T070000
END:DAYLIGHT
BEGIN:STANDARD
TZOFFSETFROM:-0400
TZOFFSETTO:-0500
TZNAME:EST
DTSTART:20261101T060000
END:STANDARD
END:VTIMEZONE
BEGIN:VEVENT
DTSTART;VALUE=DATE:20250711
DTEND;VALUE=DATE:20250714
DTSTAMP:20260423T050058
CREATED:20250605T161215Z
LAST-MODIFIED:20250702T041740Z
UID:5003-1752192000-1752451199@flnow.org
SUMMARY:National NOW Conference\, July 11\, 2025 - July 13\, 2025 / Hybrid Conference
DESCRIPTION:My name is Judi Marraccini and I am your National NOW Southern District Board Member. \nPlease register for the National NOW Conference at now.org. \nBy registering for the Conference\, you are able to participate in the election for the next National NOW leaders.  You are eligible to vote if you have been a member since April 12\, 2025. \nOn July 12th\, there be an online only vote for the next National NOW President and Vice President. \nThere are two tickets running for these positions: Kat Duesterhaus / Triana Arnold-James and Kim Villanueva / Rose Brunache . \nPlease register and vote.  Read about the candidates and determine the direction that National NOW will go. This is your opportunity to participate in the choosing of the next National NOW President and Vice President.
URL:https://flnow.org/event/national-now-conference-july-11-2025-july-13-2025-hybrid-conference/
LOCATION:Sahara Hotel Las Vegas NV\, NV\, United States
CATEGORIES:Florida NOW Events
END:VEVENT
END:VCALENDAR