BEGIN:VCALENDAR
VERSION:2.0
PRODID:-// - ECPv6.15.19//NONSGML v1.0//EN
CALSCALE:GREGORIAN
METHOD:PUBLISH
X-ORIGINAL-URL:https://flnow.org
X-WR-CALDESC:Events for 
REFRESH-INTERVAL;VALUE=DURATION:PT1H
X-Robots-Tag:noindex
X-PUBLISHED-TTL:PT1H
BEGIN:VTIMEZONE
TZID:America/New_York
BEGIN:DAYLIGHT
TZOFFSETFROM:-0500
TZOFFSETTO:-0400
TZNAME:EDT
DTSTART:20250309T070000
END:DAYLIGHT
BEGIN:STANDARD
TZOFFSETFROM:-0400
TZOFFSETTO:-0500
TZNAME:EST
DTSTART:20251102T060000
END:STANDARD
BEGIN:DAYLIGHT
TZOFFSETFROM:-0500
TZOFFSETTO:-0400
TZNAME:EDT
DTSTART:20260308T070000
END:DAYLIGHT
BEGIN:STANDARD
TZOFFSETFROM:-0400
TZOFFSETTO:-0500
TZNAME:EST
DTSTART:20261101T060000
END:STANDARD
BEGIN:DAYLIGHT
TZOFFSETFROM:-0500
TZOFFSETTO:-0400
TZNAME:EDT
DTSTART:20270314T070000
END:DAYLIGHT
BEGIN:STANDARD
TZOFFSETFROM:-0400
TZOFFSETTO:-0500
TZNAME:EST
DTSTART:20271107T060000
END:STANDARD
END:VTIMEZONE
BEGIN:VEVENT
DTSTART;TZID=America/New_York:20260307T093000
DTEND;TZID=America/New_York:20260307T103000
DTSTAMP:20260421T223703
CREATED:20260208T175718Z
LAST-MODIFIED:20260208T175718Z
UID:5902-1772875800-1772879400@flnow.org
SUMMARY:March Chapter Chat
DESCRIPTION:Saturday\, March 7th\, 2026 \n9:30 am
URL:https://flnow.org/event/march-chapter-chat/
CATEGORIES:Florida NOW Events
END:VEVENT
BEGIN:VEVENT
DTSTART;TZID=America/New_York:20260310T171500
DTEND;TZID=America/New_York:20260310T190000
DTSTAMP:20260421T223703
CREATED:20260128T202125Z
LAST-MODIFIED:20260128T202125Z
UID:5867-1773162900-1773169200@flnow.org
SUMMARY:State Board Meeting
DESCRIPTION:Contact vp@flnow.org for more
URL:https://flnow.org/event/state-board-meeting-3/
CATEGORIES:Florida NOW Events
END:VEVENT
BEGIN:VEVENT
DTSTART;TZID=America/New_York:20260315T140000
DTEND;TZID=America/New_York:20260315T160000
DTSTAMP:20260421T223703
CREATED:20260208T175253Z
LAST-MODIFIED:20260208T175253Z
UID:5900-1773583200-1773590400@flnow.org
SUMMARY:Florida NOW Film Screening: DOLORES
DESCRIPTION:https://mobilize.us/s/pFOU54
URL:https://flnow.org/event/florida-now-film-screening-dolores/
CATEGORIES:Florida NOW Events
END:VEVENT
BEGIN:VEVENT
DTSTART;TZID=America/New_York:20260316T183000
DTEND;TZID=America/New_York:20260316T193000
DTSTAMP:20260421T223703
CREATED:20260208T180010Z
LAST-MODIFIED:20260313T223936Z
UID:5904-1773685800-1773689400@flnow.org
SUMMARY:Anti-Racist Learning Book Club March 2026: “White Women\, Race Matters: The Social Construction of Whiteness” by Ruth Frankenburg
DESCRIPTION:Email Debbie Deland\, vp@flnow.org
URL:https://flnow.org/event/anti-racist-learning-book-club-march-2026-white-women-race-matters-the-social-construction-of-whiteness-by-ruth-frankenburg/
CATEGORIES:Florida NOW Events
END:VEVENT
BEGIN:VEVENT
DTSTART;TZID=America/New_York:20260325T171500
DTEND;TZID=America/New_York:20260325T190000
DTSTAMP:20260421T223703
CREATED:20260128T202210Z
LAST-MODIFIED:20260128T202210Z
UID:5869-1774458900-1774465200@flnow.org
SUMMARY:State Board Meeting
DESCRIPTION:Contact vp@flnow.org for more
URL:https://flnow.org/event/state-board-meeting-4/
CATEGORIES:Florida NOW Events
END:VEVENT
BEGIN:VEVENT
DTSTART;TZID=America/New_York:20260328T094500
DTEND;TZID=America/New_York:20260328T143000
DTSTAMP:20260421T223703
CREATED:20260208T181325Z
LAST-MODIFIED:20260208T181325Z
UID:5908-1774691100-1774708200@flnow.org
SUMMARY:Florida NOW - Field Trip: Moore Museum Tour
DESCRIPTION:https://mobilize.us/s/TDfaJz
URL:https://flnow.org/event/florida-now-field-trip-moore-museum-tour/
CATEGORIES:Florida NOW Events
END:VEVENT
END:VCALENDAR